BEGIN:VCALENDAR
VERSION:2.0
PRODID:-//ChamberMaster//Event Calendar 2.0//EN
METHOD:PUBLISH
X-PUBLISHED-TTL:P1H
REFRESH-INTERVAL:P1H
CALSCALE:GREGORIAN
BEGIN:VTIMEZONE
TZID:America/New_York
BEGIN:DAYLIGHT
RRULE:FREQ=YEARLY;BYMONTH=3;BYDAY=2SU
DTSTART:20070101T000000
TZOFFSETFROM:-0500
TZOFFSETTO:-0400
TZNAME:Eastern Daylight Time
END:DAYLIGHT
BEGIN:STANDARD
RRULE:FREQ=YEARLY;BYMONTH=11;BYDAY=1SU
DTSTART:20070101T000000
TZOFFSETFROM:-0400
TZOFFSETTO:-0500
TZNAME:Eastern Standard Time
END:STANDARD
END:VTIMEZONE
BEGIN:VEVENT
DTSTART;TZID=America/New_York:20260430T170000
DTEND;TZID=America/New_York:20260430T190000
X-MICROSOFT-CDO-ALLDAYEVENT:FALSE
SUMMARY:April Happy Hour
DESCRIPTION:Thank you Phil Boland for sponsoring our April networking happy hour!Phil Boland is the Founder & Principal at Eagle Executive Search\, an executive headhunting firm based out of Rockville\, MD. They perform hiring services across the US mainly in the Financial Services\, Technology\, and Insurance sectors.\nPhil is local to DC area himself and a devout Catholic. Born at Georgetown\, growing up in Rockville\, attending St. Mary's and Gonzaga high school\, he's always had the Catholic community in his life. After finishing college\, Phil moved into tech recruiting and never looked back. After 20 years of work\, Phil has hired over 1\,400 people throughout his career. He left his corporate role at Navy Federal Credit Union to stand up Eagle Executive Search in 2023. Today\, he still lives in Rockville with his 3 kids (7\,5\,1) who all attend St. Raphaels\, and his wife Lauren who is a Catholic school alum as well (deChantal\, Holy Child). Outside of work and family\, he loves watching his beloved Commanders and Terps.
X-ALT-DESC;FMTTYPE=text/html:<!DOCTYPE html><html><head><title></title></head><body aria-disabled="false"><p>Thank you Phil Boland for sponsoring our April networking happy hour!</p><p>Phil Boland is the Founder &amp\; Principal at Eagle Executive Search\, an executive headhunting firm based out of Rockville\, MD. They perform hiring services across the US mainly in the Financial Services\, Technology\, and Insurance sectors.</p><p><br></p><p>Phil is local to DC area himself and a devout Catholic. Born at Georgetown\, growing up in Rockville\, attending St. Mary&#39\;s and Gonzaga high school\, he&#39\;s always had the Catholic community in his life. After finishing college\, Phil moved into tech recruiting and never looked back. After 20 years of work\, Phil has hired over 1\,400 people throughout his career. He left his corporate role at Navy Federal Credit Union to stand up Eagle Executive Search in 2023. Today\, he still lives in Rockville with his 3 kids (7\,5\,1) who all attend St. Raphaels\, and his wife Lauren who is a Catholic school alum as well (deChantal\, Holy Child). Outside of work and family\, he loves watching his beloved Commanders and Terps.</p></body></html>
LOCATION:20814
UID:e.873.1439652
SEQUENCE:3
DTSTAMP:20260421T053958Z
URL:https://members.cbnmc.com/event-calendar/Details/april-happy-hour-1704327?sourceTypeId=Hub
END:VEVENT
END:VCALENDAR
